BEGIN:VCALENDAR
VERSION:2.0
PRODID:-//Bundesverband Taxi und Mietwagen e.V. - ECPv6.15.20//NONSGML v1.0//EN
CALSCALE:GREGORIAN
METHOD:PUBLISH
X-ORIGINAL-URL:https://bundesverband.taxi
X-WR-CALDESC:Veranstaltungen für Bundesverband Taxi und Mietwagen e.V.
REFRESH-INTERVAL;VALUE=DURATION:PT1H
X-Robots-Tag:noindex
X-PUBLISHED-TTL:PT1H
BEGIN:VTIMEZONE
TZID:Europe/Berlin
BEGIN:DAYLIGHT
TZOFFSETFROM:+0100
TZOFFSETTO:+0200
TZNAME:CEST
DTSTART:20220327T010000
END:DAYLIGHT
BEGIN:STANDARD
TZOFFSETFROM:+0200
TZOFFSETTO:+0100
TZNAME:CET
DTSTART:20221030T010000
END:STANDARD
BEGIN:DAYLIGHT
TZOFFSETFROM:+0100
TZOFFSETTO:+0200
TZNAME:CEST
DTSTART:20230326T010000
END:DAYLIGHT
BEGIN:STANDARD
TZOFFSETFROM:+0200
TZOFFSETTO:+0100
TZNAME:CET
DTSTART:20231029T010000
END:STANDARD
BEGIN:DAYLIGHT
TZOFFSETFROM:+0100
TZOFFSETTO:+0200
TZNAME:CEST
DTSTART:20240331T010000
END:DAYLIGHT
BEGIN:STANDARD
TZOFFSETFROM:+0200
TZOFFSETTO:+0100
TZNAME:CET
DTSTART:20241027T010000
END:STANDARD
END:VTIMEZONE
BEGIN:VEVENT
DTSTART;VALUE=DATE:20230613
DTEND;VALUE=DATE:20230615
DTSTAMP:20260423T103246
CREATED:20230425T101229Z
LAST-MODIFIED:20230511T093638Z
UID:11135-1686614400-1686787199@bundesverband.taxi
SUMMARY:PBefG-Symposium
DESCRIPTION:Der Bundesverband Taxi und Mietwagen e.V. hat zusammen mit dem Deutschen Städtetag für Mitte Juni zu einem „Symposium Taxi und Mietwagen“ eingeladen. Die Veranstaltung richtet sich an Vertreterinnen und Vertreter von Genehmigungsbehörden. Im Untertitel wird der Anspruch näher beschrieben. Dort heißt es: „Städte lernen von Städten. PBefG-Instrumente rechtssicher in der Praxis nutzen“. Konkret geht es laut Programm um das Hamburger Modell sowie die neuen Instrumente Mindesttarife für Mietwagen\, Festpreise und Tarifkorridore für Taxis. \nOffensichtlich stößt das Thema auf reges Interesse. „Wir haben mit 40 Teilnehmern geplant und mussten die Kapazitäten wegen der großen Nachfrage verdoppeln. Trotzdem sind wir restlos ausgebucht“\, erklärt Michael Oppermann\, Geschäftsführer des Bundesverbands. „Wir erwarten Vertreter aus dem Bund\, von mehreren Landesregierungen sowie aus zahlreichen Städten und Landkreisen aus allen 16 Bundesländern“. Es werde eine Warteliste geführt. \nDie große Resonanz dürfte auch mit den hochkarätigen Speakern zu tun haben: Neben Vertretern des Gewerbes und der Städte erwartet der Bundesverband den Hamburger Mobilitätssenator Anjes Tjarks\, Ministerialdirektor Guido Zielke aus dem Bundesverkehrsministerium\, Prof. Dr. Matthias Knauff von der Universität Jena sowie Dr. Hubertus Baumeister von der Kanzlei BBG. Auch Vertreter aus Österreich werden erwartet\, die bereits Erfahrungen mit dem Thema Tarifkorridor – dort unter dem Begriff Preisband – haben. \nZur Programmübersicht
URL:https://bundesverband.taxi/termin/pbefg-symposium/
LOCATION:Grand Elysée Hotel Hamburg\, Rothenbaumchaussee 10\, 20148 Hamburg\, Deutschland
ATTACH;FMTTYPE=image/jpeg:https://bundesverband.taxi/wp-content/uploads/2023/04/Taxischild.jpg
END:VEVENT
END:VCALENDAR